BEGIN:VCALENDAR
VERSION:2.0
PRODID:-//Gruene Senior Living - ECPv4.4.3//NONSGML v1.0//EN
CALSCALE:GREGORIAN
METHOD:PUBLISH
X-WR-CALNAME:Gruene Senior Living
X-ORIGINAL-URL:http://grueneseniorliving.com
X-WR-CALDESC:Events for Gruene Senior Living
BEGIN:VEVENT
DTSTART;TZID=UTC+0:20180324T180000
DTEND;TZID=UTC+0:20180324T180000
DTSTAMP:20260422T021508
CREATED:20180315T194615Z
LAST-MODIFIED:20180315T194615Z
UID:1302-1521914400-1521914400@grueneseniorliving.com
SUMMARY:"What Am I" Picture Trivia
DESCRIPTION:
URL:http://grueneseniorliving.com/event/what-am-i-picture-trivia-2/2018-03-24/
CATEGORIES:Memory care
END:VEVENT
END:VCALENDAR