BEGIN:VCALENDAR
VERSION:2.0
PRODID:-//Gruene Senior Living - ECPv4.4.3//NONSGML v1.0//EN
CALSCALE:GREGORIAN
METHOD:PUBLISH
X-WR-CALNAME:Gruene Senior Living
X-ORIGINAL-URL:http://grueneseniorliving.com
X-WR-CALDESC:Events for Gruene Senior Living
BEGIN:VEVENT
DTSTART;TZID=UTC+0:20180220T110000
DTEND;TZID=UTC+0:20180220T170000
DTSTAMP:20260424T180909
CREATED:20180216T231415Z
LAST-MODIFIED:20180216T231415Z
UID:892-1519124400-1519146000@grueneseniorliving.com
SUMMARY:Star Bean Bag Toss
DESCRIPTION:
URL:http://grueneseniorliving.com/event/star-bean-bag-toss/
CATEGORIES:Memory care
END:VEVENT
END:VCALENDAR