BEGIN:VCALENDAR
VERSION:2.0
PRODID:-//Gruene Senior Living - ECPv4.4.3//NONSGML v1.0//EN
CALSCALE:GREGORIAN
METHOD:PUBLISH
X-WR-CALNAME:Gruene Senior Living
X-ORIGINAL-URL:http://grueneseniorliving.com
X-WR-CALDESC:Events for Gruene Senior Living
BEGIN:VEVENT
DTSTART;TZID=UTC+0:20180219T103000
DTEND;TZID=UTC+0:20180219T170000
DTSTAMP:20260424T015012
CREATED:20180216T230347Z
LAST-MODIFIED:20180216T230347Z
UID:878-1519036200-1519059600@grueneseniorliving.com
SUMMARY:Sensory Activity
DESCRIPTION:
URL:http://grueneseniorliving.com/event/sensory-activity/
CATEGORIES:Memory care
END:VEVENT
END:VCALENDAR