BEGIN:VCALENDAR
VERSION:2.0
PRODID:-//Gruene Senior Living - ECPv4.4.3//NONSGML v1.0//EN
CALSCALE:GREGORIAN
METHOD:PUBLISH
X-WR-CALNAME:Gruene Senior Living
X-ORIGINAL-URL:http://grueneseniorliving.com
X-WR-CALDESC:Events for Gruene Senior Living
BEGIN:VEVENT
DTSTART;TZID=UTC+0:20180221T150000
DTEND;TZID=UTC+0:20180221T170000
DTSTAMP:20260425T023422
CREATED:20180216T233110Z
LAST-MODIFIED:20180216T233110Z
UID:904-1519225200-1519232400@grueneseniorliving.com
SUMMARY:Parachute Games
DESCRIPTION:
URL:http://grueneseniorliving.com/event/parachute-games/
CATEGORIES:Memory care
END:VEVENT
END:VCALENDAR