BEGIN:VCALENDAR
VERSION:2.0
PRODID:-//Gruene Senior Living - ECPv4.4.3//NONSGML v1.0//EN
CALSCALE:GREGORIAN
METHOD:PUBLISH
X-WR-CALNAME:Gruene Senior Living
X-ORIGINAL-URL:http://grueneseniorliving.com
X-WR-CALDESC:Events for Gruene Senior Living
BEGIN:VEVENT
DTSTART;TZID=UTC+0:20180321T150000
DTEND;TZID=UTC+0:20180321T150000
DTSTAMP:20260423T135420
CREATED:20180315T193228Z
LAST-MODIFIED:20180315T193228Z
UID:1257-1521644400-1521644400@grueneseniorliving.com
SUMMARY:Parachute Games
DESCRIPTION:
URL:http://grueneseniorliving.com/event/parachute-games-2/
CATEGORIES:Memory care
END:VEVENT
END:VCALENDAR