BEGIN:VCALENDAR
VERSION:2.0
PRODID:-//Gruene Senior Living - ECPv4.4.3//NONSGML v1.0//EN
CALSCALE:GREGORIAN
METHOD:PUBLISH
X-WR-CALNAME:Gruene Senior Living
X-ORIGINAL-URL:http://grueneseniorliving.com
X-WR-CALDESC:Events for Gruene Senior Living
BEGIN:VEVENT
DTSTART;TZID=UTC+0:20180323T180000
DTEND;TZID=UTC+0:20180323T180000
DTSTAMP:20260422T122028
CREATED:20180315T194214Z
LAST-MODIFIED:20180315T195403Z
UID:1287-1521828000-1521828000@grueneseniorliving.com
SUMMARY:Name 5 game
DESCRIPTION:
URL:http://grueneseniorliving.com/event/name-5-game-2/2018-03-23/
CATEGORIES:Memory care
END:VEVENT
END:VCALENDAR