BEGIN:VCALENDAR
VERSION:2.0
PRODID:-//Gruene Senior Living - ECPv4.4.3//NONSGML v1.0//EN
CALSCALE:GREGORIAN
METHOD:PUBLISH
X-WR-CALNAME:Gruene Senior Living
X-ORIGINAL-URL:http://grueneseniorliving.com
X-WR-CALDESC:Events for Gruene Senior Living
BEGIN:VEVENT
DTSTART;TZID=UTC+0:20180226T101500
DTEND;TZID=UTC+0:20180226T170000
DTSTAMP:20260425T012729
CREATED:20180216T041236Z
LAST-MODIFIED:20180216T041339Z
UID:694-1519640100-1519664400@grueneseniorliving.com
SUMMARY:Music w/ Wyatt Arp Band
DESCRIPTION:
URL:http://grueneseniorliving.com/event/music-w-wyatt-arp-band/
CATEGORIES:assisted living
END:VEVENT
END:VCALENDAR