BEGIN:VCALENDAR
VERSION:2.0
PRODID:-//Gruene Senior Living - ECPv4.4.3//NONSGML v1.0//EN
CALSCALE:GREGORIAN
METHOD:PUBLISH
X-WR-CALNAME:Gruene Senior Living
X-ORIGINAL-URL:http://grueneseniorliving.com
X-WR-CALDESC:Events for Gruene Senior Living
BEGIN:VEVENT
DTSTART;TZID=UTC+0:20180326T101500
DTEND;TZID=UTC+0:20180326T101500
DTSTAMP:20260422T004636
CREATED:20180315T185516Z
LAST-MODIFIED:20180315T185516Z
UID:1137-1522059300-1522059300@grueneseniorliving.com
SUMMARY:Music w/ The Wyatt Arp Band
DESCRIPTION:
URL:http://grueneseniorliving.com/event/music-w-the-wyatt-arp-band/
CATEGORIES:assisted living
END:VEVENT
END:VCALENDAR