BEGIN:VCALENDAR
VERSION:2.0
PRODID:-//Gruene Senior Living - ECPv4.4.3//NONSGML v1.0//EN
CALSCALE:GREGORIAN
METHOD:PUBLISH
X-WR-CALNAME:Gruene Senior Living
X-ORIGINAL-URL:http://grueneseniorliving.com
X-WR-CALDESC:Events for Gruene Senior Living
BEGIN:VEVENT
DTSTART;TZID=UTC+0:20180226T103000
DTEND;TZID=UTC+0:20180226T170000
DTSTAMP:20260425T010629
CREATED:20180216T234044Z
LAST-MODIFIED:20180216T234044Z
UID:918-1519641000-1519664400@grueneseniorliving.com
SUMMARY:Music w/ Mark (MC)
DESCRIPTION:
URL:http://grueneseniorliving.com/event/music-w-mark-mc/
CATEGORIES:Memory care
END:VEVENT
END:VCALENDAR