BEGIN:VCALENDAR
VERSION:2.0
PRODID:-//Gruene Senior Living - ECPv4.4.3//NONSGML v1.0//EN
CALSCALE:GREGORIAN
METHOD:PUBLISH
X-WR-CALNAME:Gruene Senior Living
X-ORIGINAL-URL:http://grueneseniorliving.com
X-WR-CALDESC:Events for Gruene Senior Living
BEGIN:VEVENT
DTSTART;TZID=UTC+0:20180222T143000
DTEND;TZID=UTC+0:20180222T170000
DTSTAMP:20260425T023712
CREATED:20180216T040607Z
LAST-MODIFIED:20180216T040607Z
UID:683-1519309800-1519318800@grueneseniorliving.com
SUMMARY:Movie Matinee and Popcorn:  Midnight in Paris (2011)
DESCRIPTION:
URL:http://grueneseniorliving.com/event/movie-matinee-and-popcorn-midnight-in-paris-2011/
CATEGORIES:assisted living
END:VEVENT
END:VCALENDAR