BEGIN:VCALENDAR
VERSION:2.0
PRODID:-//Gruene Senior Living - ECPv4.4.3//NONSGML v1.0//EN
CALSCALE:GREGORIAN
METHOD:PUBLISH
X-WR-CALNAME:Gruene Senior Living
X-ORIGINAL-URL:http://grueneseniorliving.com
X-WR-CALDESC:Events for Gruene Senior Living
BEGIN:VEVENT
DTSTART;TZID=UTC+0:20180328T143000
DTEND;TZID=UTC+0:20180328T143000
DTSTAMP:20260421T131856
CREATED:20180315T185808Z
LAST-MODIFIED:20180315T185808Z
UID:1145-1522247400-1522247400@grueneseniorliving.com
SUMMARY:Mexican Train Dominos
DESCRIPTION:
URL:http://grueneseniorliving.com/event/mexican-train-dominos/
CATEGORIES:assisted living
END:VEVENT
END:VCALENDAR