BEGIN:VCALENDAR
VERSION:2.0
PRODID:-//Gruene Senior Living - ECPv4.4.3//NONSGML v1.0//EN
CALSCALE:GREGORIAN
METHOD:PUBLISH
X-WR-CALNAME:Gruene Senior Living
X-ORIGINAL-URL:http://grueneseniorliving.com
X-WR-CALDESC:Events for Gruene Senior Living
BEGIN:VEVENT
DTSTART;TZID=UTC+0:20180228T104500
DTEND;TZID=UTC+0:20180228T170000
DTSTAMP:20260425T011251
CREATED:20180216T234246Z
LAST-MODIFIED:20180216T234246Z
UID:924-1519814700-1519837200@grueneseniorliving.com
SUMMARY:Hymn Sing w/ Gayle (MC)
DESCRIPTION:
URL:http://grueneseniorliving.com/event/hymn-sing-w-gayle-mc/
CATEGORIES:Memory care
END:VEVENT
END:VCALENDAR