BEGIN:VCALENDAR
VERSION:2.0
PRODID:-//Gruene Senior Living - ECPv4.4.3//NONSGML v1.0//EN
CALSCALE:GREGORIAN
METHOD:PUBLISH
X-WR-CALNAME:Gruene Senior Living
X-ORIGINAL-URL:http://grueneseniorliving.com
X-WR-CALDESC:Events for Gruene Senior Living
BEGIN:VEVENT
DTSTART;TZID=UTC+0:20180323T143000
DTEND;TZID=UTC+0:20180323T143000
DTSTAMP:20260422T201038
CREATED:20180315T185142Z
LAST-MODIFIED:20180315T185142Z
UID:1129-1521815400-1521815400@grueneseniorliving.com
SUMMARY:Happy Hour
DESCRIPTION:
URL:http://grueneseniorliving.com/event/happy-hour-2/2018-03-23/
CATEGORIES:assisted living
END:VEVENT
END:VCALENDAR