BEGIN:VCALENDAR
VERSION:2.0
PRODID:-//Gruene Senior Living - ECPv4.4.3//NONSGML v1.0//EN
CALSCALE:GREGORIAN
METHOD:PUBLISH
X-WR-CALNAME:Gruene Senior Living
X-ORIGINAL-URL:http://grueneseniorliving.com
X-WR-CALDESC:Events for Gruene Senior Living
BEGIN:VEVENT
DTSTART;TZID=UTC+0:20180218T110000
DTEND;TZID=UTC+0:20180218T170000
DTSTAMP:20260423T172853
CREATED:20180216T043855Z
LAST-MODIFIED:20180216T043855Z
UID:860-1518951600-1518973200@grueneseniorliving.com
SUMMARY:Hair & Make-Up
DESCRIPTION:
URL:http://grueneseniorliving.com/event/hair-make-up/2018-02-18/
CATEGORIES:Memory care
END:VEVENT
END:VCALENDAR