BEGIN:VCALENDAR
VERSION:2.0
PRODID:-//Gruene Senior Living - ECPv4.4.3//NONSGML v1.0//EN
CALSCALE:GREGORIAN
METHOD:PUBLISH
X-WR-CALNAME:Gruene Senior Living
X-ORIGINAL-URL:http://grueneseniorliving.com
X-WR-CALDESC:Events for Gruene Senior Living
BEGIN:VEVENT
DTSTART;TZID=UTC+0:20180321T160000
DTEND;TZID=UTC+0:20180321T160000
DTSTAMP:20260423T121840
CREATED:20180315T193314Z
LAST-MODIFIED:20180315T193314Z
UID:1259-1521648000-1521648000@grueneseniorliving.com
SUMMARY:Giant Checkers
DESCRIPTION:
URL:http://grueneseniorliving.com/event/giant-checkers-2/
CATEGORIES:Memory care
END:VEVENT
END:VCALENDAR