BEGIN:VCALENDAR
VERSION:2.0
PRODID:-//Gruene Senior Living - ECPv4.4.3//NONSGML v1.0//EN
CALSCALE:GREGORIAN
METHOD:PUBLISH
X-WR-CALNAME:Gruene Senior Living
X-ORIGINAL-URL:http://grueneseniorliving.com
X-WR-CALDESC:Events for Gruene Senior Living
BEGIN:VEVENT
DTSTART;TZID=UTC+0:20180324T153000
DTEND;TZID=UTC+0:20180324T153000
DTSTAMP:20260422T035546
CREATED:20180315T194528Z
LAST-MODIFIED:20180315T194528Z
UID:1299-1521905400-1521905400@grueneseniorliving.com
SUMMARY:Doggy Bingo
DESCRIPTION:
URL:http://grueneseniorliving.com/event/doggy-bingo-2/2018-03-24/
CATEGORIES:Memory care
END:VEVENT
END:VCALENDAR