BEGIN:VCALENDAR
VERSION:2.0
PRODID:-//Gruene Senior Living - ECPv4.4.3//NONSGML v1.0//EN
CALSCALE:GREGORIAN
METHOD:PUBLISH
X-WR-CALNAME:Gruene Senior Living
X-ORIGINAL-URL:http://grueneseniorliving.com
X-WR-CALDESC:Events for Gruene Senior Living
BEGIN:VEVENT
DTSTART;TZID=UTC+0:20180219T151500
DTEND;TZID=UTC+0:20180219T170000
DTSTAMP:20260424T062654
CREATED:20180216T231250Z
LAST-MODIFIED:20180216T231250Z
UID:884-1519053300-1519059600@grueneseniorliving.com
SUMMARY:Country Drive
DESCRIPTION:
URL:http://grueneseniorliving.com/event/country-drive-2/2018-02-19/
CATEGORIES:Memory care
END:VEVENT
END:VCALENDAR