BEGIN:VCALENDAR
VERSION:2.0
PRODID:-//Gruene Senior Living - ECPv4.4.3//NONSGML v1.0//EN
CALSCALE:GREGORIAN
METHOD:PUBLISH
X-WR-CALNAME:Gruene Senior Living
X-ORIGINAL-URL:http://grueneseniorliving.com
X-WR-CALDESC:Events for Gruene Senior Living
BEGIN:VEVENT
DTSTART;TZID=UTC+0:20180224T103000
DTEND;TZID=UTC+0:20180224T170000
DTSTAMP:20260425T035314
CREATED:20180216T233856Z
LAST-MODIFIED:20180216T233856Z
UID:914-1519468200-1519491600@grueneseniorliving.com
SUMMARY:Chicken Toss
DESCRIPTION:
URL:http://grueneseniorliving.com/event/chicken-toss/
CATEGORIES:Memory care
END:VEVENT
END:VCALENDAR