BEGIN:VCALENDAR
VERSION:2.0
PRODID:-//Gruene Senior Living - ECPv4.4.3//NONSGML v1.0//EN
CALSCALE:GREGORIAN
METHOD:PUBLISH
X-WR-CALNAME:Gruene Senior Living
X-ORIGINAL-URL:http://grueneseniorliving.com
X-WR-CALDESC:Events for Gruene Senior Living
BEGIN:VEVENT
DTSTART;TZID=UTC+0:20180328T150000
DTEND;TZID=UTC+0:20180328T150000
DTSTAMP:20260421T114705
CREATED:20180315T195157Z
LAST-MODIFIED:20180315T195157Z
UID:1316-1522249200-1522249200@grueneseniorliving.com
SUMMARY:Bocce Ball
DESCRIPTION:
URL:http://grueneseniorliving.com/event/bocce-ball-2/
CATEGORIES:Memory care
END:VEVENT
END:VCALENDAR