BEGIN:VCALENDAR
VERSION:2.0
PRODID:-//Gruene Senior Living - ECPv4.4.3//NONSGML v1.0//EN
CALSCALE:GREGORIAN
METHOD:PUBLISH
X-WR-CALNAME:Gruene Senior Living
X-ORIGINAL-URL:http://grueneseniorliving.com
X-WR-CALDESC:Events for Gruene Senior Living
BEGIN:VEVENT
DTSTART;TZID=UTC+0:20180323T151500
DTEND;TZID=UTC+0:20180323T151500
DTSTAMP:20260422T154842
CREATED:20180315T185309Z
LAST-MODIFIED:20180315T185309Z
UID:1132-1521818100-1521818100@grueneseniorliving.com
SUMMARY:Bingo
DESCRIPTION:
URL:http://grueneseniorliving.com/event/bingo-2/2018-03-23/
CATEGORIES:assisted living
END:VEVENT
END:VCALENDAR