BEGIN:VCALENDAR
VERSION:2.0
PRODID:-//Gruene Senior Living - ECPv4.4.3//NONSGML v1.0//EN
CALSCALE:GREGORIAN
METHOD:PUBLISH
X-WR-CALNAME:Gruene Senior Living
X-ORIGINAL-URL:http://grueneseniorliving.com
X-WR-CALDESC:Events for Gruene Senior Living
BEGIN:VEVENT
DTSTART;TZID=UTC+0:20180220T103000
DTEND;TZID=UTC+0:20180220T170000
DTSTAMP:20260424T162241
CREATED:20180216T231351Z
LAST-MODIFIED:20180216T231351Z
UID:889-1519122600-1519146000@grueneseniorliving.com
SUMMARY:Arts & Crafts
DESCRIPTION:
URL:http://grueneseniorliving.com/event/arts-crafts/2018-02-20/
CATEGORIES:Memory care
END:VEVENT
END:VCALENDAR