BEGIN:VCALENDAR
VERSION:2.0
PRODID:-//Gruene Senior Living - ECPv4.4.3//NONSGML v1.0//EN
CALSCALE:GREGORIAN
METHOD:PUBLISH
X-WR-CALNAME:Gruene Senior Living
X-ORIGINAL-URL:http://grueneseniorliving.com
X-WR-CALDESC:Events for Gruene Senior Living
BEGIN:VEVENT
DTSTART;TZID=UTC+0:20180327T153000
DTEND;TZID=UTC+0:20180327T153000
DTSTAMP:20260421T164051
CREATED:20180315T195000Z
LAST-MODIFIED:20180315T195000Z
UID:1309-1522164600-1522164600@grueneseniorliving.com
SUMMARY:Arm Chair Travels
DESCRIPTION:
URL:http://grueneseniorliving.com/event/arm-chair-travels-2/
CATEGORIES:Memory care
END:VEVENT
END:VCALENDAR